BEGIN:VCALENDAR
VERSION:2.0
PRODID:-//Langstraat - De Keet - ECPv6.15.20//NONSGML v1.0//EN
CALSCALE:GREGORIAN
METHOD:PUBLISH
X-ORIGINAL-URL:https://langstraat-dekeet.nl
X-WR-CALDESC:Evenementen voor Langstraat - De Keet
REFRESH-INTERVAL;VALUE=DURATION:PT1H
X-Robots-Tag:noindex
X-PUBLISHED-TTL:PT1H
BEGIN:VTIMEZONE
TZID:UTC
BEGIN:STANDARD
TZOFFSETFROM:+0000
TZOFFSETTO:+0000
TZNAME:UTC
DTSTART:20240101T000000
END:STANDARD
END:VTIMEZONE
BEGIN:VEVENT
DTSTART;VALUE=DATE:20250405
DTEND;VALUE=DATE:20250406
DTSTAMP:20260424T105431
CREATED:20240817T123205Z
LAST-MODIFIED:20250225T213724Z
UID:1178-1743811200-1743897599@langstraat-dekeet.nl
SUMMARY:Tropical Party
DESCRIPTION:Voor meer info zie flyer in nieuwsitem.
URL:https://langstraat-dekeet.nl/kalender/tropicalparty/
LOCATION:De Keet\, Beatrixstraat 22\, Achthuizen\, 3256AA\, Nederland
ATTACH;FMTTYPE=image/png:https://langstraat-dekeet.nl/wp-content/uploads/2025/02/Tropical-header.png
ORGANIZER;CN="Bewonersinitiatief":MAILTO:secretariaat@langstraat-dekeet.nl
END:VEVENT
BEGIN:VEVENT
DTSTART;VALUE=DATE:20250406
DTEND;VALUE=DATE:20250407
DTSTAMP:20260424T105431
CREATED:20250226T181616Z
LAST-MODIFIED:20250226T181616Z
UID:1252-1743897600-1743983999@langstraat-dekeet.nl
SUMMARY:Privé verhuurd
DESCRIPTION:Privé verhuurd
URL:https://langstraat-dekeet.nl/kalender/prive-verhuurd-31/
ATTACH;FMTTYPE=image/webp:https://langstraat-dekeet.nl/wp-content/uploads/2022/12/verhuurd-bord.webp
END:VEVENT
END:VCALENDAR