BEGIN:VCALENDAR
VERSION:2.0
PRODID:-//Langstraat - De Keet - ECPv6.15.20//NONSGML v1.0//EN
CALSCALE:GREGORIAN
METHOD:PUBLISH
X-WR-CALNAME:Langstraat - De Keet
X-ORIGINAL-URL:https://langstraat-dekeet.nl
X-WR-CALDESC:Evenementen voor Langstraat - De Keet
REFRESH-INTERVAL;VALUE=DURATION:PT1H
X-Robots-Tag:noindex
X-PUBLISHED-TTL:PT1H
BEGIN:VTIMEZONE
TZID:UTC
BEGIN:STANDARD
TZOFFSETFROM:+0000
TZOFFSETTO:+0000
TZNAME:UTC
DTSTART:20230101T000000
END:STANDARD
END:VTIMEZONE
BEGIN:VEVENT
DTSTART;VALUE=DATE:20241208
DTEND;VALUE=DATE:20241209
DTSTAMP:20260424T191937
CREATED:20240808T183759Z
LAST-MODIFIED:20240808T183759Z
UID:1166-1733616000-1733702399@langstraat-dekeet.nl
SUMMARY:Privé verhuurd
DESCRIPTION:Privé verhuurd
URL:https://langstraat-dekeet.nl/kalender/prive-verhuurd-25/
ATTACH;FMTTYPE=image/webp:https://langstraat-dekeet.nl/wp-content/uploads/2022/12/verhuurd-bord.webp
END:VEVENT
END:VCALENDAR