BEGIN:VCALENDAR
VERSION:2.0
PRODID:-//Langstraat - De Keet - ECPv6.15.20//NONSGML v1.0//EN
CALSCALE:GREGORIAN
METHOD:PUBLISH
X-ORIGINAL-URL:https://langstraat-dekeet.nl
X-WR-CALDESC:Evenementen voor Langstraat - De Keet
REFRESH-INTERVAL;VALUE=DURATION:PT1H
X-Robots-Tag:noindex
X-PUBLISHED-TTL:PT1H
BEGIN:VTIMEZONE
TZID:UTC
BEGIN:STANDARD
TZOFFSETFROM:+0000
TZOFFSETTO:+0000
TZNAME:UTC
DTSTART:20230101T000000
END:STANDARD
END:VTIMEZONE
BEGIN:VEVENT
DTSTART;TZID=UTC:20240829T194500
DTEND;TZID=UTC:20240829T214500
DTSTAMP:20260425T004231
CREATED:20240324T135522Z
LAST-MODIFIED:20240324T135847Z
UID:1071-1724960700-1724967900@langstraat-dekeet.nl
SUMMARY:Bestuursvergadering
DESCRIPTION:Normaliter iedere laatste donderdag van de maand. \nAls u de vergadering bij wilt wonen\, kunt u dat laten weten aan het secretariaat.
URL:https://langstraat-dekeet.nl/kalender/bestuursvergadering-11/
LOCATION:De Keet\, Beatrixstraat 22\, Achthuizen\, 3256AA\, Nederland
ATTACH;FMTTYPE=image/png:https://langstraat-dekeet.nl/wp-content/uploads/2024/03/PB-Meeting-Bestuur.png
ORGANIZER;CN="Bestuur":MAILTO:secretariaat@langstraat-dekeet.nl
END:VEVENT
BEGIN:VEVENT
DTSTART;TZID=UTC:20240831T153000
DTEND;TZID=UTC:20240831T190000
DTSTAMP:20260425T004231
CREATED:20240227T192034Z
LAST-MODIFIED:20240227T192034Z
UID:1022-1725118200-1725130800@langstraat-dekeet.nl
SUMMARY:Buurtborrel
DESCRIPTION:Buurtborrel
URL:https://langstraat-dekeet.nl/kalender/buurtborrel-18/
END:VEVENT
END:VCALENDAR