BEGIN:VCALENDAR
VERSION:2.0
PRODID:-//Langstraat - De Keet - ECPv6.15.20//NONSGML v1.0//EN
CALSCALE:GREGORIAN
METHOD:PUBLISH
X-ORIGINAL-URL:https://langstraat-dekeet.nl
X-WR-CALDESC:Evenementen voor Langstraat - De Keet
REFRESH-INTERVAL;VALUE=DURATION:PT1H
X-Robots-Tag:noindex
X-PUBLISHED-TTL:PT1H
BEGIN:VTIMEZONE
TZID:UTC
BEGIN:STANDARD
TZOFFSETFROM:+0000
TZOFFSETTO:+0000
TZNAME:UTC
DTSTART:20230101T000000
END:STANDARD
END:VTIMEZONE
BEGIN:VEVENT
DTSTART;VALUE=DATE:20240302
DTEND;VALUE=DATE:20240303
DTSTAMP:20260422T102714
CREATED:20240102T140127Z
LAST-MODIFIED:20240102T141133Z
UID:956-1709337600-1709423999@langstraat-dekeet.nl
SUMMARY:Privé verhuurd
DESCRIPTION:Privé verhuurd
URL:https://langstraat-dekeet.nl/kalender/prive-verhuurd-17/
ATTACH;FMTTYPE=image/webp:https://langstraat-dekeet.nl/wp-content/uploads/2022/12/verhuurd-bord.webp
END:VEVENT
BEGIN:VEVENT
DTSTART;TZID=UTC:20240316T093000
DTEND;TZID=UTC:20240316T153000
DTSTAMP:20260422T102714
CREATED:20240306T234517Z
LAST-MODIFIED:20240306T234654Z
UID:1034-1710581400-1710603000@langstraat-dekeet.nl
SUMMARY:LS Doet - Klusdag Keet
DESCRIPTION:Vrijwilligersactiviteit – onderhoud Keet
URL:https://langstraat-dekeet.nl/kalender/ls-doet-klusdag-keet/
LOCATION:De Keet\, Beatrixstraat 22\, Achthuizen\, 3256AA\, Nederland
ATTACH;FMTTYPE=image/png:https://langstraat-dekeet.nl/wp-content/uploads/2024/03/toolbox-304894_1280.png
ORGANIZER;CN="Bestuur":MAILTO:secretariaat@langstraat-dekeet.nl
END:VEVENT
BEGIN:VEVENT
DTSTART;VALUE=DATE:20240323
DTEND;VALUE=DATE:20240324
DTSTAMP:20260422T102714
CREATED:20231030T114405Z
LAST-MODIFIED:20231030T114405Z
UID:886-1711152000-1711238399@langstraat-dekeet.nl
SUMMARY:Prive verhuurd
DESCRIPTION:
URL:https://langstraat-dekeet.nl/kalender/prive-verhuurd-14/
ATTACH;FMTTYPE=image/webp:https://langstraat-dekeet.nl/wp-content/uploads/2022/12/verhuurd-bord.webp
END:VEVENT
BEGIN:VEVENT
DTSTART;TZID=UTC:20240328T194500
DTEND;TZID=UTC:20240328T214500
DTSTAMP:20260422T102714
CREATED:20240324T134032Z
LAST-MODIFIED:20240324T135233Z
UID:1059-1711655100-1711662300@langstraat-dekeet.nl
SUMMARY:Bestuursvergadering
DESCRIPTION:Normaliter iedere laatste donderdag van de maand. \nAls u de vergadering bij wilt wonen\, kunt u dat laten weten aan het secretariaat.
URL:https://langstraat-dekeet.nl/kalender/bestuursvergadering-5/
LOCATION:De Keet\, Beatrixstraat 22\, Achthuizen\, 3256AA\, Nederland
ATTACH;FMTTYPE=image/png:https://langstraat-dekeet.nl/wp-content/uploads/2024/03/PB-Meeting-Bestuur.png
ORGANIZER;CN="Bestuur":MAILTO:secretariaat@langstraat-dekeet.nl
END:VEVENT
BEGIN:VEVENT
DTSTART;TZID=UTC:20240330T153000
DTEND;TZID=UTC:20240330T190000
DTSTAMP:20260422T102714
CREATED:20240227T191614Z
LAST-MODIFIED:20240227T191614Z
UID:1012-1711812600-1711825200@langstraat-dekeet.nl
SUMMARY:Buurtborrel
DESCRIPTION:Buurtborrel
URL:https://langstraat-dekeet.nl/kalender/buurtborrel-13/
END:VEVENT
END:VCALENDAR