BEGIN:VCALENDAR
VERSION:2.0
PRODID:-//Langstraat - De Keet - ECPv6.15.20//NONSGML v1.0//EN
CALSCALE:GREGORIAN
METHOD:PUBLISH
X-ORIGINAL-URL:https://langstraat-dekeet.nl
X-WR-CALDESC:Evenementen voor Langstraat - De Keet
REFRESH-INTERVAL;VALUE=DURATION:PT1H
X-Robots-Tag:noindex
X-PUBLISHED-TTL:PT1H
BEGIN:VTIMEZONE
TZID:UTC
BEGIN:STANDARD
TZOFFSETFROM:+0000
TZOFFSETTO:+0000
TZNAME:UTC
DTSTART:20230101T000000
END:STANDARD
END:VTIMEZONE
BEGIN:VEVENT
DTSTART;TZID=UTC:20240203T193000
DTEND;TZID=UTC:20240203T233000
DTSTAMP:20260422T090718
CREATED:20231217T141314Z
LAST-MODIFIED:20231217T220523Z
UID:911-1706988600-1707003000@langstraat-dekeet.nl
SUMMARY:Whiskyproeverij
DESCRIPTION:Whiskyproeverij – besloten. Alleen voor bewoners en leden. Zie de flyer voor meer informatie.
URL:https://langstraat-dekeet.nl/kalender/whiskeyproeverij2023/
LOCATION:De Keet\, Beatrixstraat 22\, Achthuizen\, 3256AA\, Nederland
ATTACH;FMTTYPE=image/png:https://langstraat-dekeet.nl/wp-content/uploads/2023/12/Whiskyproeverij.png
ORGANIZER;CN="Bestuur":MAILTO:secretariaat@langstraat-dekeet.nl
END:VEVENT
BEGIN:VEVENT
DTSTART;TZID=UTC:20240224T153000
DTEND;TZID=UTC:20240224T190000
DTSTAMP:20260422T090718
CREATED:20240227T185226Z
LAST-MODIFIED:20240227T185226Z
UID:1010-1708788600-1708801200@langstraat-dekeet.nl
SUMMARY:Buurtborrel
DESCRIPTION:Buurtborrel
URL:https://langstraat-dekeet.nl/kalender/buurtborrel-12/
END:VEVENT
BEGIN:VEVENT
DTSTART;TZID=UTC:20240229T194500
DTEND;TZID=UTC:20240229T214500
DTSTAMP:20260422T090718
CREATED:20240324T133928Z
LAST-MODIFIED:20240324T133928Z
UID:1057-1709235900-1709243100@langstraat-dekeet.nl
SUMMARY:Bestuursvergadering
DESCRIPTION:Normaliter iedere laatste donderdag van de maand. \nAls u de vergadering bij wilt wonen\, kunt u dat laten weten aan het secretariaat.
URL:https://langstraat-dekeet.nl/kalender/bestuursvergadering-4/
ATTACH;FMTTYPE=image/png:https://langstraat-dekeet.nl/wp-content/uploads/2024/03/PB-Meeting-Bestuur.png
END:VEVENT
END:VCALENDAR