BEGIN:VCALENDAR
VERSION:2.0
PRODID:-//Langstraat - De Keet - ECPv6.15.20//NONSGML v1.0//EN
CALSCALE:GREGORIAN
METHOD:PUBLISH
X-ORIGINAL-URL:https://langstraat-dekeet.nl
X-WR-CALDESC:Evenementen voor Langstraat - De Keet
REFRESH-INTERVAL;VALUE=DURATION:PT1H
X-Robots-Tag:noindex
X-PUBLISHED-TTL:PT1H
BEGIN:VTIMEZONE
TZID:UTC
BEGIN:STANDARD
TZOFFSETFROM:+0000
TZOFFSETTO:+0000
TZNAME:UTC
DTSTART:20220101T000000
END:STANDARD
END:VTIMEZONE
BEGIN:VEVENT
DTSTART;TZID=UTC:20230202T190000
DTEND;TZID=UTC:20230202T230000
DTSTAMP:20260420T001735
CREATED:20230129T213726Z
LAST-MODIFIED:20230129T213726Z
UID:671-1675364400-1675378800@langstraat-dekeet.nl
SUMMARY:Bordspellenavond
DESCRIPTION:Iedere donderdagavond (behalve de laatste donderdag van de maand) komt de bordspellengroep samen. Zie hier de flyer!
URL:https://langstraat-dekeet.nl/kalender/bordspellenavond/
LOCATION:De Keet\, Beatrixstraat 22\, Achthuizen\, 3256AA\, Nederland
END:VEVENT
BEGIN:VEVENT
DTSTART;VALUE=DATE:20230913
DTEND;VALUE=DATE:20230914
DTSTAMP:20260420T001735
CREATED:20230913T144003Z
LAST-MODIFIED:20230913T144003Z
UID:842-1694563200-1694649599@langstraat-dekeet.nl
SUMMARY:Geen borrel!
DESCRIPTION:Ivm de buurtBBQ de week ervoor\, is er de laatste zaterdag van september géén buurtborrel
URL:https://langstraat-dekeet.nl/kalender/geen-borrel/
ORGANIZER;CN="Bestuur":MAILTO:secretariaat@langstraat-dekeet.nl
END:VEVENT
BEGIN:VEVENT
DTSTART;TZID=UTC:20230202T190000
DTEND;TZID=UTC:20230202T230000
DTSTAMP:20260420T001735
CREATED:20230129T213726Z
LAST-MODIFIED:20230129T213726Z
UID:671-1675364400-1675378800@langstraat-dekeet.nl
SUMMARY:Bordspellenavond
DESCRIPTION:Iedere donderdagavond (behalve de laatste donderdag van de maand) komt de bordspellengroep samen. Zie hier de flyer!
URL:https://langstraat-dekeet.nl/kalender/bordspellenavond/
LOCATION:De Keet\, Beatrixstraat 22\, Achthuizen\, 3256AA\, Nederland
END:VEVENT
BEGIN:VEVENT
DTSTART;TZID=UTC:20230916T091400
DTEND;TZID=UTC:20230916T120000
DTSTAMP:20260420T001735
CREATED:20230913T172526Z
LAST-MODIFIED:20230913T172526Z
UID:863-1694855640-1694865600@langstraat-dekeet.nl
SUMMARY:Fietspuzzeltocht NH-Kerk
DESCRIPTION:Prachtige fietspuzzeltocht door het mooie landschap van Oostflakkee over een afstand van circa 26 km.\nHalverwege is er een stop met koffie\, thee of frisdrank. Bij terugkomst gebruiken we bij het kerkgebouw een fijne lunch met soep en broodjes. \nDe kosten zijn slechts € 7\,50 pp met een maximum van € 20\,- per gezin. \nDe opbrengst van de fietstocht is bestemd voor het onderhoud van het kerkgebouw. In verband met de lunch en de koffie graag even van tevoren aanmelden. Dat kan bij Cock Mijs\, 06-20950571/ fam.mijs@planet.nl of bij Dirk Bal\, 06-53660412/ dirk.bal@kpnplanet.nl . Voor de winnaar is er weer een taart en wisselbeker beschikbaar! \nGraag tot ziens op 16 september.
URL:https://langstraat-dekeet.nl/kalender/fietspuzzeltocht-nh-kerk/
LOCATION:NH Kerk Langstraat\, Langstraat 12\, Achthuizen\, 3256 AM\, Nederland
END:VEVENT
BEGIN:VEVENT
DTSTART;TZID=UTC:20230202T190000
DTEND;TZID=UTC:20230202T230000
DTSTAMP:20260420T001735
CREATED:20230129T213726Z
LAST-MODIFIED:20230129T213726Z
UID:671-1675364400-1675378800@langstraat-dekeet.nl
SUMMARY:Bordspellenavond
DESCRIPTION:Iedere donderdagavond (behalve de laatste donderdag van de maand) komt de bordspellengroep samen. Zie hier de flyer!
URL:https://langstraat-dekeet.nl/kalender/bordspellenavond/
LOCATION:De Keet\, Beatrixstraat 22\, Achthuizen\, 3256AA\, Nederland
END:VEVENT
BEGIN:VEVENT
DTSTART;TZID=UTC:20230923T173000
DTEND;TZID=UTC:20230923T233000
DTSTAMP:20260420T001735
CREATED:20230808T195159Z
LAST-MODIFIED:20230808T195454Z
UID:813-1695490200-1695511800@langstraat-dekeet.nl
SUMMARY:Buurt-BBQ 2023
DESCRIPTION:Zoals gebruikelijk organiseren we op Burendag weer de Buurt-BBQ bij De Keet. Aanmelden kan op de volgende manieren: \nAnaloog\nVia het aanmeldformulier dat met de flyer is verspreid in Langstraat en directe omgeving. \nDigitaal\nDe informatie als in onderstaand voorbeeld doorgeven via e-mail aan secretariaat@langstraat-dekeet.nl en de eigen bijdrage overmaken op: \n\nNL 95 RBRB 0677 123 701\nT.n.v. Belangen Langstraat\nOnder vermelding van “BBQ\, achternaam” (achternaam graag gelijk aan die op het aanmeldformulier).\n\nBij speciale dieetwensen graag even contact opnemen via email of Whatsapp (Annemieke). \n  \nAANMELDING BBQ 2023\nNaam: …………………………………………………….. \nLid? ja  (€ 15 p.p.) / nee (€ 20 p.p.) \nAantal personen: \n\nAantal vlees:\nAantal vis:\nAantal vegetarisch:\n\nTotaalbedrag
URL:https://langstraat-dekeet.nl/kalender/buurt-bbq/
LOCATION:De Keet\, Beatrixstraat 22\, Achthuizen\, 3256AA\, Nederland
ATTACH;FMTTYPE=image/png:https://langstraat-dekeet.nl/wp-content/uploads/2023/08/BBQ2023header.png
ORGANIZER;CN="Bestuur":MAILTO:secretariaat@langstraat-dekeet.nl
END:VEVENT
BEGIN:VEVENT
DTSTART;TZID=UTC:20230126T080000
DTEND;TZID=UTC:20230126T170000
DTSTAMP:20260420T001735
CREATED:20230129T214908Z
LAST-MODIFIED:20230129T214908Z
UID:679-1674720000-1674752400@langstraat-dekeet.nl
SUMMARY:Bestuursvergadering
DESCRIPTION:Normaliter iedere laatste donderdag van de maand. \nAls u de vergadering bij wilt wonen\, kunt u dat laten weten aan het secretariaat.
URL:https://langstraat-dekeet.nl/kalender/bestuursvergadering/
LOCATION:De Keet\, Beatrixstraat 22\, Achthuizen\, 3256AA\, Nederland
ORGANIZER;CN="Bestuur":MAILTO:secretariaat@langstraat-dekeet.nl
END:VEVENT
END:VCALENDAR