BEGIN:VCALENDAR
VERSION:2.0
PRODID:-//Langstraat - De Keet - ECPv6.15.20//NONSGML v1.0//EN
CALSCALE:GREGORIAN
METHOD:PUBLISH
X-WR-CALNAME:Langstraat - De Keet
X-ORIGINAL-URL:https://langstraat-dekeet.nl
X-WR-CALDESC:Evenementen voor Langstraat - De Keet
REFRESH-INTERVAL;VALUE=DURATION:PT1H
X-Robots-Tag:noindex
X-PUBLISHED-TTL:PT1H
BEGIN:VTIMEZONE
TZID:UTC
BEGIN:STANDARD
TZOFFSETFROM:+0000
TZOFFSETTO:+0000
TZNAME:UTC
DTSTART:20220101T000000
END:STANDARD
END:VTIMEZONE
BEGIN:VEVENT
DTSTART;TZID=UTC:20230202T190000
DTEND;TZID=UTC:20230202T230000
DTSTAMP:20260419T181126
CREATED:20230129T213726Z
LAST-MODIFIED:20230129T213726Z
UID:671-1675364400-1675378800@langstraat-dekeet.nl
SUMMARY:Bordspellenavond
DESCRIPTION:Iedere donderdagavond (behalve de laatste donderdag van de maand) komt de bordspellengroep samen. Zie hier de flyer!
URL:https://langstraat-dekeet.nl/kalender/bordspellenavond/
LOCATION:De Keet\, Beatrixstraat 22\, Achthuizen\, 3256AA\, Nederland
END:VEVENT
BEGIN:VEVENT
DTSTART;TZID=UTC:20230202T190000
DTEND;TZID=UTC:20230202T230000
DTSTAMP:20260419T181126
CREATED:20230129T213726Z
LAST-MODIFIED:20230129T213726Z
UID:671-1675364400-1675378800@langstraat-dekeet.nl
SUMMARY:Bordspellenavond
DESCRIPTION:Iedere donderdagavond (behalve de laatste donderdag van de maand) komt de bordspellengroep samen. Zie hier de flyer!
URL:https://langstraat-dekeet.nl/kalender/bordspellenavond/
LOCATION:De Keet\, Beatrixstraat 22\, Achthuizen\, 3256AA\, Nederland
END:VEVENT
BEGIN:VEVENT
DTSTART;TZID=UTC:20230512T194500
DTEND;TZID=UTC:20230512T220000
DTSTAMP:20260419T181126
CREATED:20230429T133154Z
LAST-MODIFIED:20230429T133154Z
UID:749-1683920700-1683928800@langstraat-dekeet.nl
SUMMARY:ALV/Bewonersavond
DESCRIPTION:Op vrijdagavond 12 mei zijn alle leden en bewoners van harte welkom op de Algemene Leden Vergadering & Bewonersbijeenkomst. Eerder vonden beide vergaderingen aansluitend. Dit jaar is gekozen voor een geïntegreerde bijeenkomst\, aangezien de meeste agendapunten voor beide groepen relevant zijn. \nUitnodiging – Jaarverslag 2022
URL:https://langstraat-dekeet.nl/kalender/alv-bewonersavond/
LOCATION:De Keet\, Beatrixstraat 22\, Achthuizen\, 3256AA\, Nederland
ORGANIZER;CN="Bestuur":MAILTO:secretariaat@langstraat-dekeet.nl
END:VEVENT
BEGIN:VEVENT
DTSTART;TZID=UTC:20230202T190000
DTEND;TZID=UTC:20230202T230000
DTSTAMP:20260419T181126
CREATED:20230129T213726Z
LAST-MODIFIED:20230129T213726Z
UID:671-1675364400-1675378800@langstraat-dekeet.nl
SUMMARY:Bordspellenavond
DESCRIPTION:Iedere donderdagavond (behalve de laatste donderdag van de maand) komt de bordspellengroep samen. Zie hier de flyer!
URL:https://langstraat-dekeet.nl/kalender/bordspellenavond/
LOCATION:De Keet\, Beatrixstraat 22\, Achthuizen\, 3256AA\, Nederland
END:VEVENT
BEGIN:VEVENT
DTSTART;VALUE=DATE:20230525
DTEND;VALUE=DATE:20230603
DTSTAMP:20260419T181126
CREATED:20221205T204102Z
LAST-MODIFIED:20221205T204102Z
UID:501-1684972800-1685750399@langstraat-dekeet.nl
SUMMARY:Rommelmarkt opbouwen
DESCRIPTION:
URL:https://langstraat-dekeet.nl/kalender/rommelmarkt-opbouwen/
END:VEVENT
BEGIN:VEVENT
DTSTART;TZID=UTC:20230126T080000
DTEND;TZID=UTC:20230126T170000
DTSTAMP:20260419T181126
CREATED:20230129T214908Z
LAST-MODIFIED:20230129T214908Z
UID:679-1674720000-1674752400@langstraat-dekeet.nl
SUMMARY:Bestuursvergadering
DESCRIPTION:Normaliter iedere laatste donderdag van de maand. \nAls u de vergadering bij wilt wonen\, kunt u dat laten weten aan het secretariaat.
URL:https://langstraat-dekeet.nl/kalender/bestuursvergadering/
LOCATION:De Keet\, Beatrixstraat 22\, Achthuizen\, 3256AA\, Nederland
ORGANIZER;CN="Bestuur":MAILTO:secretariaat@langstraat-dekeet.nl
END:VEVENT
BEGIN:VEVENT
DTSTART;TZID=UTC:20230527T153000
DTEND;TZID=UTC:20230527T190000
DTSTAMP:20260419T181126
CREATED:20221205T203916Z
LAST-MODIFIED:20221205T205528Z
UID:497-1685201400-1685214000@langstraat-dekeet.nl
SUMMARY:Buurtborrel
DESCRIPTION:
URL:https://langstraat-dekeet.nl/kalender/buurtborrel-6/
END:VEVENT
BEGIN:VEVENT
DTSTART;TZID=UTC:20230529T120000
DTEND;TZID=UTC:20230529T143000
DTSTAMP:20260419T181126
CREATED:20230508T093814Z
LAST-MODIFIED:20230508T093814Z
UID:778-1685361600-1685370600@langstraat-dekeet.nl
SUMMARY:High-Tea
DESCRIPTION:High-Tea in De Keet. \nKosten 5 euro (leden 3\,50) \nZie hier de Uitnodiging voor alle details.
URL:https://langstraat-dekeet.nl/kalender/high-tea/
LOCATION:De Keet\, Beatrixstraat 22\, Achthuizen\, 3256AA\, Nederland
ORGANIZER;CN="Bestuur":MAILTO:secretariaat@langstraat-dekeet.nl
END:VEVENT
END:VCALENDAR